BEGIN:VCALENDAR
VERSION:2.0
PRODID:-//Centro Educativo - ECPv6.15.18//NONSGML v1.0//EN
CALSCALE:GREGORIAN
METHOD:PUBLISH
X-ORIGINAL-URL:https://www.centroeducativo.myt.org.mx
X-WR-CALDESC:Eventos para Centro Educativo
REFRESH-INTERVAL;VALUE=DURATION:PT1H
X-Robots-Tag:noindex
X-PUBLISHED-TTL:PT1H
BEGIN:VTIMEZONE
TZID:UTC
BEGIN:STANDARD
TZOFFSETFROM:+0000
TZOFFSETTO:+0000
TZNAME:UTC
DTSTART:20250101T000000
END:STANDARD
END:VTIMEZONE
BEGIN:VEVENT
DTSTART;TZID=UTC:20260203T120000
DTEND;TZID=UTC:20260203T135000
DTSTAMP:20260421T134705
CREATED:20260124T174917Z
LAST-MODIFIED:20260124T174917Z
UID:10000154-1770120000-1770126600@www.centroeducativo.myt.org.mx
SUMMARY:Desarrollo humano con perspectiva empática y cambio cultural
DESCRIPTION:A través de una mirada humanista y ética\, se busca fortalecer las competencias emocionales\, sociales y culturales que favorecen el bienestar personal y la convivencia pacífica. La empatía se aborda no solo como una emoción\, sino como una práctica transformadora que impulsa el cambio cultural\, la inclusión y la creación de entornos más equitativos y colaborativos.
URL:https://www.centroeducativo.myt.org.mx/evento/desarrollo-humano-con-perspectiva-empatica-y-cambio-cultural/2026-02-03/
LOCATION:Curso vía zoom\, Mexico
CATEGORIES:Desarrollo humano
ATTACH;FMTTYPE=image/jpeg:https://www.centroeducativo.myt.org.mx/wp-content/uploads/2026/01/01.-CULTURAL-1-scaled.jpg
END:VEVENT
END:VCALENDAR