BEGIN:VCALENDAR
VERSION:2.0
PRODID:-//Centro Educativo - ECPv6.15.18//NONSGML v1.0//EN
CALSCALE:GREGORIAN
METHOD:PUBLISH
X-WR-CALNAME:Centro Educativo
X-ORIGINAL-URL:https://www.centroeducativo.myt.org.mx
X-WR-CALDESC:Eventos para Centro Educativo
REFRESH-INTERVAL;VALUE=DURATION:PT1H
X-Robots-Tag:noindex
X-PUBLISHED-TTL:PT1H
BEGIN:VTIMEZONE
TZID:UTC
BEGIN:STANDARD
TZOFFSETFROM:+0000
TZOFFSETTO:+0000
TZNAME:UTC
DTSTART:20250101T000000
END:STANDARD
END:VTIMEZONE
BEGIN:VEVENT
DTSTART;TZID=UTC:20260321T080000
DTEND;TZID=UTC:20260321T170000
DTSTAMP:20260420T040107
CREATED:20260225T180937Z
LAST-MODIFIED:20260225T184837Z
UID:10000259-1774080000-1774112400@www.centroeducativo.myt.org.mx
SUMMARY:Cómo acompañar los primeros momentos tras un trauma\, violencia o pérdida
DESCRIPTION:Capacitar a personas no especialistas (líderes comunitarios\, educadores\, personal de primera acogida o cualquier interesado) en protocolos básicos\, éticos y seguros de Primeros Auxilios Psicológicos (PAP) para ofrecer un apoyo inicial\, estabilizador y humanizado a quienes atraviesan crisis por eventos traumáticos (violencia) o procesos de duelo\, facilitando su derivación profesional cuando sea necesario. \n  \n 
URL:https://www.centroeducativo.myt.org.mx/evento/como-acompanar-los-primeros-momentos-tras-un-trauma-violencia-o-perdida/2026-03-21/
LOCATION:Museo Memoria y Tolerancia\, Av. Juárez\, Cuidad de México\, 06010\, Mexico
CATEGORIES:Desarrollo humano
ATTACH;FMTTYPE=image/jpeg:https://www.centroeducativo.myt.org.mx/wp-content/uploads/2026/02/10.-AMERSE-scaled.jpg
END:VEVENT
BEGIN:VEVENT
DTSTART;TZID=UTC:20260321T120000
DTEND;TZID=UTC:20260321T135000
DTSTAMP:20260420T040107
CREATED:20260225T185348Z
LAST-MODIFIED:20260225T185348Z
UID:10000262-1774094400-1774101000@www.centroeducativo.myt.org.mx
SUMMARY:Neurodiversidad Femenina: Comprender\, acompañar y transformar
DESCRIPTION:Este curso tiene como objetivo brindar herramientas de comprensión\, sensibilización y apoyo sobre la experiencia de las mujeres neurodivergentes\, promoviendo una visión informada\, respetuosa e inclusiva de la neurodiversidad femenina\, con la intención de: \n\nReconocer qué es la neurodiversidad y cómo se manifiesta en las mujeres\nIdentificar los desafíos comunes que enfrentan las mujeres neurodivergentes en lo personal\, social y laboral\nPromover estrategias de comunicación\, apoyo emocional y acompañamiento respetuoso\nFomentar una mirada libre de estigmas hacia la neurodivergencia en la mujer
URL:https://www.centroeducativo.myt.org.mx/evento/neurodiversidad-femenina-comprender-acompanar-y-transformar/2026-03-21/
LOCATION:Curso vía zoom\, Mexico
CATEGORIES:Desarrollo humano
ATTACH;FMTTYPE=image/jpeg:https://www.centroeducativo.myt.org.mx/wp-content/uploads/2026/02/11.-NEURODIVERSIDAD-scaled.jpg
END:VEVENT
END:VCALENDAR