BEGIN:VCALENDAR
VERSION:2.0
PRODID:-//Centro Educativo - ECPv6.15.18//NONSGML v1.0//EN
CALSCALE:GREGORIAN
METHOD:PUBLISH
X-WR-CALNAME:Centro Educativo
X-ORIGINAL-URL:https://www.centroeducativo.myt.org.mx
X-WR-CALDESC:Eventos para Centro Educativo
REFRESH-INTERVAL;VALUE=DURATION:PT1H
X-Robots-Tag:noindex
X-PUBLISHED-TTL:PT1H
BEGIN:VTIMEZONE
TZID:UTC
BEGIN:STANDARD
TZOFFSETFROM:+0000
TZOFFSETTO:+0000
TZNAME:UTC
DTSTART:20250101T000000
END:STANDARD
END:VTIMEZONE
BEGIN:VEVENT
DTSTART;TZID=UTC:20260519T140000
DTEND;TZID=UTC:20260519T155000
DTSTAMP:20260421T111956
CREATED:20260418T193914Z
LAST-MODIFIED:20260418T194804Z
UID:10000340-1779199200-1779205800@www.centroeducativo.myt.org.mx
SUMMARY:Sexualidad y anticoncepción en las infancias y adolescencias
DESCRIPTION:En México\, las infancias y adolescencias no cuentan con un entramado legal e institucional coherente y efectivo que les permita decidir sobre su vida sexual y reproductiva. Ejemplos de esto son el elevado número de niñas y adolescentes embarazadas\, de las cuales un tercio\, fueron sexualmente coercionadas; así como los obstáculos creados por grupos de poder que impiden avanzar en establecer una educación sexual integral\, así como el acceso universal a servicios de anticoncepción. En primer lugar\, reflexionaremos sobre algunas contradicciones recientes en la política pública. Posteriormente\, revisaremos la parálisis de la reforma que incluye el principio jurídico de autonomía progresiva de la sexualidad dentro de la política de educación sexual integral. A continuación\, examinaremos la estrecha relación entre las creencias sobre del amor romántico y el uso de anticonceptivos. Por último\, revisaremos lo logros de los servicios amigables para adolescentes.
URL:https://www.centroeducativo.myt.org.mx/evento/sexualidad-y-anticoncepcion-en-las-infancias-y-adolescencias/2026-05-19/
LOCATION:Curso vía zoom\, Mexico
CATEGORIES:Educación en valores
ATTACH;FMTTYPE=image/jpeg:https://www.centroeducativo.myt.org.mx/wp-content/uploads/2026/04/02.-ANTICONCEPCION-scaled.jpg
END:VEVENT
BEGIN:VEVENT
DTSTART;TZID=UTC:20260519T160000
DTEND;TZID=UTC:20260519T175000
DTSTAMP:20260421T111956
CREATED:20260418T194111Z
LAST-MODIFIED:20260418T194925Z
UID:10000344-1779206400-1779213000@www.centroeducativo.myt.org.mx
SUMMARY:Aproximaciones al pensamiento animal: Ética\, Filosofía y Política de lo no humano
DESCRIPTION:Comprender algunas de las respuestas que la filosofía y el pensamiento han dado a la pregunta por nuestra relación con los animales. Con este propósito\, se propone una aproximación a algunas teorías pioneras\, contemporáneas y el aporte del pensamiento de las mujeres en relación a la consideración moral\, los derechos y el cuidado de otros animales.  \n 
URL:https://www.centroeducativo.myt.org.mx/evento/aproximaciones-al-pensamiento-animal-etica-filosofia-y-politica-de-lo-no-humano/2026-05-19/
LOCATION:Curso vía zoom\, Mexico
CATEGORIES:Educación en valores
ATTACH;FMTTYPE=image/jpeg:https://www.centroeducativo.myt.org.mx/wp-content/uploads/2026/04/03.-PUB-scaled.jpg
END:VEVENT
END:VCALENDAR