BEGIN:VCALENDAR
VERSION:2.0
PRODID:-//Centro Educativo - ECPv6.15.18//NONSGML v1.0//EN
CALSCALE:GREGORIAN
METHOD:PUBLISH
X-WR-CALNAME:Centro Educativo
X-ORIGINAL-URL:https://www.centroeducativo.myt.org.mx
X-WR-CALDESC:Eventos para Centro Educativo
REFRESH-INTERVAL;VALUE=DURATION:PT1H
X-Robots-Tag:noindex
X-PUBLISHED-TTL:PT1H
BEGIN:VTIMEZONE
TZID:UTC
BEGIN:STANDARD
TZOFFSETFROM:+0000
TZOFFSETTO:+0000
TZNAME:UTC
DTSTART:20250101T000000
END:STANDARD
END:VTIMEZONE
BEGIN:VEVENT
DTSTART;TZID=UTC:20260124T120000
DTEND;TZID=UTC:20260124T150000
DTSTAMP:20260421T145717
CREATED:20251212T192604Z
LAST-MODIFIED:20251212T192604Z
UID:10000151-1769256000-1769266800@www.centroeducativo.myt.org.mx
SUMMARY:Violencia en el tiempo: Análisis profundo de testimonios de hijos de sobrevivientes del  Holocausto
DESCRIPTION:Murmullos del Silencio es una investigación testimonial que indaga en la herencia de la violencia a través del tiempo. Muestra que el trauma no termina con los hechos que lo originan: se transmite\, se inscribe en los cuerpos y en los relatos\, y moldea a las generaciones que siguen. La experiencia de los hijos e hijas de sobrevivientes del Holocausto se convierte en un espejo que interpela al presente: la violencia deja huellas que viajan en la memoria familiar\ny social\, dialogan con el mundo actual y revelan cómo el dolor puede persistir incluso décadas después. Comprender los mecanismos de esa transmisión —emocional\, simbólica y relacional— es el primer paso para interrumpirla y abrir posibilidades de reparación\, dignidad y paz.
URL:https://www.centroeducativo.myt.org.mx/evento/violencia-en-el-tiempo-analisis-profundo-de-testimonios-de-hijos-de-sobrevivientes-del-holocausto/
LOCATION:Conferencia presencial\, Mexico
CATEGORIES:Memoria histórica
ATTACH;FMTTYPE=image/jpeg:https://www.centroeducativo.myt.org.mx/wp-content/uploads/2025/12/16.SOBREVIVIENTES.jpg
END:VEVENT
BEGIN:VEVENT
DTSTART;TZID=UTC:20260129T090000
DTEND;TZID=UTC:20260129T180000
DTSTAMP:20260421T145717
CREATED:20251212T192709Z
LAST-MODIFIED:20251212T192709Z
UID:10000130-1769677200-1769709600@www.centroeducativo.myt.org.mx
SUMMARY:De Núremberg a Buenos Aires: Legados de la justicia penal internacional y el futuro de la rendición de cuentas transnacional
DESCRIPTION:Una contribución académica que enriquece los debates transnacionales y transgeneracionales sobre derecho penal internacional\, memoria y rendición de cuentas.\nRecomendaciones de políticas para mecanismos innovadores de rendición de cuentas y expresiones de memoria en contextos de democracias frágiles e impunidad en América Latina.\nFortalecimiento de las redes regionales y transnacionales de académicos\, profesionales y defensores de los derechos humanos.\nMayor visibilidad de la violencia masiva y los problemas de derechos humanos en América Latina a través de la difusión global del evento.\nUna comprensión comparativa más profunda del Holocausto y las atrocidades latinoamericanas\, posicionando al primero como un precursor histórico para analizar la violencia estatal contemporánea en la región.
URL:https://www.centroeducativo.myt.org.mx/evento/de-nuremberg-a-buenos-aires-legados-de-la-justicia-penal-internacional-y-el-futuro-de-la-rendicion-de-cuentas-transnacional/
LOCATION:Conferencia presencial\, Mexico
CATEGORIES:Memoria histórica
ATTACH;FMTTYPE=image/jpeg:https://www.centroeducativo.myt.org.mx/wp-content/uploads/2025/11/NUREMBERG-scaled.jpg
END:VEVENT
BEGIN:VEVENT
DTSTART;TZID=UTC:20260130T160000
DTEND;TZID=UTC:20260130T180000
DTSTAMP:20260421T145717
CREATED:20251212T195641Z
LAST-MODIFIED:20251212T195641Z
UID:10000153-1769788800-1769796000@www.centroeducativo.myt.org.mx
SUMMARY:Núremberg: Lecciones para el presente
DESCRIPTION:Proyección especial
URL:https://www.centroeducativo.myt.org.mx/evento/nuremberg-lecciones-para-el-presente/
LOCATION:Conferencia presencial\, Mexico
CATEGORIES:Memoria histórica
END:VEVENT
END:VCALENDAR