BEGIN:VCALENDAR
VERSION:2.0
PRODID:-//Centro Educativo - ECPv6.15.18//NONSGML v1.0//EN
CALSCALE:GREGORIAN
METHOD:PUBLISH
X-WR-CALNAME:Centro Educativo
X-ORIGINAL-URL:https://www.centroeducativo.myt.org.mx
X-WR-CALDESC:Eventos para Centro Educativo
REFRESH-INTERVAL;VALUE=DURATION:PT1H
X-Robots-Tag:noindex
X-PUBLISHED-TTL:PT1H
BEGIN:VTIMEZONE
TZID:UTC
BEGIN:STANDARD
TZOFFSETFROM:+0000
TZOFFSETTO:+0000
TZNAME:UTC
DTSTART:20250101T000000
END:STANDARD
END:VTIMEZONE
BEGIN:VEVENT
DTSTART;TZID=UTC:20260507T140000
DTEND;TZID=UTC:20260507T155000
DTSTAMP:20260421T095720
CREATED:20260418T200709Z
LAST-MODIFIED:20260418T200709Z
UID:10000360-1778162400-1778169000@www.centroeducativo.myt.org.mx
SUMMARY:Cómo ser una mamá que trabaja sin culpas: desmantelando el gaslighting y el peso de la culpa profesional
DESCRIPTION:Proporcionar a las madres trabajadoras herramientas de análisis y comunicación para identificar el “gaslighting de la maternidad” y el falso síndrome de la impostora\, permitiéndoles integrar su vida personal y profesional con seguridad y sin ceder ante la presión de entornos invalidantes.
URL:https://www.centroeducativo.myt.org.mx/evento/como-ser-una-mama-que-trabaja-sin-culpas-desmantelando-el-gaslighting-y-el-peso-de-la-culpa-profesional/2026-05-07/
LOCATION:Curso vía zoom\, Mexico
CATEGORIES:Derechos humanos
ATTACH;FMTTYPE=image/jpeg:https://www.centroeducativo.myt.org.mx/wp-content/uploads/2026/04/09.-CULPAS-scaled.jpg
END:VEVENT
BEGIN:VEVENT
DTSTART;TZID=UTC:20260514T140000
DTEND;TZID=UTC:20260514T155000
DTSTAMP:20260421T095720
CREATED:20260418T200709Z
LAST-MODIFIED:20260418T200709Z
UID:10000361-1778767200-1778773800@www.centroeducativo.myt.org.mx
SUMMARY:Cómo ser una mamá que trabaja sin culpas: desmantelando el gaslighting y el peso de la culpa profesional
DESCRIPTION:Proporcionar a las madres trabajadoras herramientas de análisis y comunicación para identificar el “gaslighting de la maternidad” y el falso síndrome de la impostora\, permitiéndoles integrar su vida personal y profesional con seguridad y sin ceder ante la presión de entornos invalidantes.
URL:https://www.centroeducativo.myt.org.mx/evento/como-ser-una-mama-que-trabaja-sin-culpas-desmantelando-el-gaslighting-y-el-peso-de-la-culpa-profesional/2026-05-14/
LOCATION:Curso vía zoom\, Mexico
CATEGORIES:Derechos humanos
ATTACH;FMTTYPE=image/jpeg:https://www.centroeducativo.myt.org.mx/wp-content/uploads/2026/04/09.-CULPAS-scaled.jpg
END:VEVENT
BEGIN:VEVENT
DTSTART;TZID=UTC:20260521T140000
DTEND;TZID=UTC:20260521T155000
DTSTAMP:20260421T095720
CREATED:20260418T200709Z
LAST-MODIFIED:20260418T200709Z
UID:10000362-1779372000-1779378600@www.centroeducativo.myt.org.mx
SUMMARY:Cómo ser una mamá que trabaja sin culpas: desmantelando el gaslighting y el peso de la culpa profesional
DESCRIPTION:Proporcionar a las madres trabajadoras herramientas de análisis y comunicación para identificar el “gaslighting de la maternidad” y el falso síndrome de la impostora\, permitiéndoles integrar su vida personal y profesional con seguridad y sin ceder ante la presión de entornos invalidantes.
URL:https://www.centroeducativo.myt.org.mx/evento/como-ser-una-mama-que-trabaja-sin-culpas-desmantelando-el-gaslighting-y-el-peso-de-la-culpa-profesional/2026-05-21/
LOCATION:Curso vía zoom\, Mexico
CATEGORIES:Derechos humanos
ATTACH;FMTTYPE=image/jpeg:https://www.centroeducativo.myt.org.mx/wp-content/uploads/2026/04/09.-CULPAS-scaled.jpg
END:VEVENT
BEGIN:VEVENT
DTSTART;TZID=UTC:20260528T140000
DTEND;TZID=UTC:20260528T155000
DTSTAMP:20260421T095720
CREATED:20260418T200709Z
LAST-MODIFIED:20260418T200709Z
UID:10000363-1779976800-1779983400@www.centroeducativo.myt.org.mx
SUMMARY:Cómo ser una mamá que trabaja sin culpas: desmantelando el gaslighting y el peso de la culpa profesional
DESCRIPTION:Proporcionar a las madres trabajadoras herramientas de análisis y comunicación para identificar el “gaslighting de la maternidad” y el falso síndrome de la impostora\, permitiéndoles integrar su vida personal y profesional con seguridad y sin ceder ante la presión de entornos invalidantes.
URL:https://www.centroeducativo.myt.org.mx/evento/como-ser-una-mama-que-trabaja-sin-culpas-desmantelando-el-gaslighting-y-el-peso-de-la-culpa-profesional/2026-05-28/
LOCATION:Curso vía zoom\, Mexico
CATEGORIES:Derechos humanos
ATTACH;FMTTYPE=image/jpeg:https://www.centroeducativo.myt.org.mx/wp-content/uploads/2026/04/09.-CULPAS-scaled.jpg
END:VEVENT
END:VCALENDAR