BEGIN:VCALENDAR
VERSION:2.0
PRODID:-//Centro Educativo - ECPv6.15.18//NONSGML v1.0//EN
CALSCALE:GREGORIAN
METHOD:PUBLISH
X-ORIGINAL-URL:https://www.centroeducativo.myt.org.mx
X-WR-CALDESC:Eventos para Centro Educativo
REFRESH-INTERVAL;VALUE=DURATION:PT1H
X-Robots-Tag:noindex
X-PUBLISHED-TTL:PT1H
BEGIN:VTIMEZONE
TZID:UTC
BEGIN:STANDARD
TZOFFSETFROM:+0000
TZOFFSETTO:+0000
TZNAME:UTC
DTSTART:20240101T000000
END:STANDARD
END:VTIMEZONE
BEGIN:VEVENT
DTSTART;TZID=UTC:20260124T100000
DTEND;TZID=UTC:20260124T115000
DTSTAMP:20260419T142856
CREATED:20251212T192234Z
LAST-MODIFIED:20251212T192234Z
UID:10000145-1769248800-1769255400@www.centroeducativo.myt.org.mx
SUMMARY:Resiliencia Consciente: Trabajar el Perdón\, la Pasión y el Propósito
DESCRIPTION:Comprender y aplicar el perdón (hacia uno mismo y los demás) como un acto de liberación consciente\, no de condonación.\nIdentificar y reconectar con las fuentes de pasión personal\, utilizando esa energía como combustible para la acción resiliente.\nDefinir o redefinir un propósito personal claro que sirva de brújula y significado ante la adversidad.\nIntegrar los tres pilares (Perdón\, Pasión\, Propósito) en una estrategia personalizada para navegar desafíos futuros.\n\n 
URL:https://www.centroeducativo.myt.org.mx/evento/resiliencia-consciente-trabajar-el-perdon-la-pasion-y-el-proposito/2026-01-24/
LOCATION:Museo Memoria y Tolerancia\, Av. Juárez\, Cuidad de México\, 06010\, Mexico
CATEGORIES:Liderazgo y bienestar
ATTACH;FMTTYPE=image/jpeg:https://www.centroeducativo.myt.org.mx/wp-content/uploads/2025/11/14.-AMERSE-scaled.jpg
END:VEVENT
BEGIN:VEVENT
DTSTART;TZID=UTC:20260117T100000
DTEND;TZID=UTC:20260117T115000
DTSTAMP:20260419T142856
CREATED:20251212T192234Z
LAST-MODIFIED:20251212T192234Z
UID:10000144-1768644000-1768650600@www.centroeducativo.myt.org.mx
SUMMARY:Resiliencia Consciente: Trabajar el Perdón\, la Pasión y el Propósito
DESCRIPTION:Comprender y aplicar el perdón (hacia uno mismo y los demás) como un acto de liberación consciente\, no de condonación.\nIdentificar y reconectar con las fuentes de pasión personal\, utilizando esa energía como combustible para la acción resiliente.\nDefinir o redefinir un propósito personal claro que sirva de brújula y significado ante la adversidad.\nIntegrar los tres pilares (Perdón\, Pasión\, Propósito) en una estrategia personalizada para navegar desafíos futuros.\n\n 
URL:https://www.centroeducativo.myt.org.mx/evento/resiliencia-consciente-trabajar-el-perdon-la-pasion-y-el-proposito/2026-01-17/
LOCATION:Museo Memoria y Tolerancia\, Av. Juárez\, Cuidad de México\, 06010\, Mexico
CATEGORIES:Liderazgo y bienestar
ATTACH;FMTTYPE=image/jpeg:https://www.centroeducativo.myt.org.mx/wp-content/uploads/2025/11/14.-AMERSE-scaled.jpg
END:VEVENT
BEGIN:VEVENT
DTSTART;TZID=UTC:20260110T100000
DTEND;TZID=UTC:20260110T115000
DTSTAMP:20260419T142856
CREATED:20251212T192234Z
LAST-MODIFIED:20251212T192234Z
UID:10000143-1768039200-1768045800@www.centroeducativo.myt.org.mx
SUMMARY:Resiliencia Consciente: Trabajar el Perdón\, la Pasión y el Propósito
DESCRIPTION:Comprender y aplicar el perdón (hacia uno mismo y los demás) como un acto de liberación consciente\, no de condonación.\nIdentificar y reconectar con las fuentes de pasión personal\, utilizando esa energía como combustible para la acción resiliente.\nDefinir o redefinir un propósito personal claro que sirva de brújula y significado ante la adversidad.\nIntegrar los tres pilares (Perdón\, Pasión\, Propósito) en una estrategia personalizada para navegar desafíos futuros.\n\n 
URL:https://www.centroeducativo.myt.org.mx/evento/resiliencia-consciente-trabajar-el-perdon-la-pasion-y-el-proposito/2026-01-10/
LOCATION:Museo Memoria y Tolerancia\, Av. Juárez\, Cuidad de México\, 06010\, Mexico
CATEGORIES:Liderazgo y bienestar
ATTACH;FMTTYPE=image/jpeg:https://www.centroeducativo.myt.org.mx/wp-content/uploads/2025/11/14.-AMERSE-scaled.jpg
END:VEVENT
BEGIN:VEVENT
DTSTART;TZID=UTC:20251213T100000
DTEND;TZID=UTC:20251213T115000
DTSTAMP:20260419T142856
CREATED:20251123T003232Z
LAST-MODIFIED:20251123T003232Z
UID:10000087-1765620000-1765626600@www.centroeducativo.myt.org.mx
SUMMARY:Actos de amor propio y auto cuidado para alimentar mi salud emocional\, mental y social
DESCRIPTION:Identificar sus necesidades emocionales\, físicas y sociales.\nDesarrollar prácticas de autocuidado personalizadas.\nMejorar su relación consigo mismos.\n\n 
URL:https://www.centroeducativo.myt.org.mx/evento/actos-de-amor-propio-y-auto-cuidado-para-alimentar-mi-salud-emocional-mental-y-social/2025-12-13/
LOCATION:Museo Memoria y Tolerancia\, Av. Juárez\, Cuidad de México\, 06010\, Mexico
CATEGORIES:Liderazgo y bienestar
ATTACH;FMTTYPE=image/jpeg:https://www.centroeducativo.myt.org.mx/wp-content/uploads/2025/11/11.-AMERSE-scaled.jpg
END:VEVENT
BEGIN:VEVENT
DTSTART;TZID=UTC:20251206T100000
DTEND;TZID=UTC:20251206T115000
DTSTAMP:20260419T142856
CREATED:20251123T003232Z
LAST-MODIFIED:20251123T003232Z
UID:10000086-1765015200-1765021800@www.centroeducativo.myt.org.mx
SUMMARY:Actos de amor propio y auto cuidado para alimentar mi salud emocional\, mental y social
DESCRIPTION:Identificar sus necesidades emocionales\, físicas y sociales.\nDesarrollar prácticas de autocuidado personalizadas.\nMejorar su relación consigo mismos.\n\n 
URL:https://www.centroeducativo.myt.org.mx/evento/actos-de-amor-propio-y-auto-cuidado-para-alimentar-mi-salud-emocional-mental-y-social/2025-12-06/
LOCATION:Museo Memoria y Tolerancia\, Av. Juárez\, Cuidad de México\, 06010\, Mexico
CATEGORIES:Liderazgo y bienestar
ATTACH;FMTTYPE=image/jpeg:https://www.centroeducativo.myt.org.mx/wp-content/uploads/2025/11/11.-AMERSE-scaled.jpg
END:VEVENT
BEGIN:VEVENT
DTSTART;TZID=UTC:20251129T100000
DTEND;TZID=UTC:20251129T115000
DTSTAMP:20260419T142856
CREATED:20251029T164601Z
LAST-MODIFIED:20251029T164601Z
UID:10000052-1764410400-1764417000@www.centroeducativo.myt.org.mx
SUMMARY:Pérdidas que no podemos soltar: despedir a los seres queridos
DESCRIPTION:Comprender el proceso de duelo: Explorar las diferentes etapas del duelo y las emociones asociadas a cada una.\nNormalizar el dolor: Reconocer que el dolor por la pérdida es una experiencia universal y necesaria.\nPromover la aceptación y el crecimiento personal: Acompañar a los participantes en el proceso de aceptación de la pérdida y en la búsqueda de un nuevo significado en la vida.\n\nLink de inscripción: https://bit.ly/4ht6rI7 \nConoce el programa aquí
URL:https://www.centroeducativo.myt.org.mx/evento/perdidas-que-no-podemos-soltar-despedir-a-los-seres-queridos-4/
LOCATION:Museo Memoria y Tolerancia\, Av. Juárez\, Cuidad de México\, 06010\, Mexico
CATEGORIES:Liderazgo y bienestar
ATTACH;FMTTYPE=image/jpeg:https://www.centroeducativo.myt.org.mx/wp-content/uploads/2025/10/16.-AMERSE-scaled.jpg
END:VEVENT
BEGIN:VEVENT
DTSTART;TZID=UTC:20251115T100000
DTEND;TZID=UTC:20251115T235000
DTSTAMP:20260419T142856
CREATED:20251029T164406Z
LAST-MODIFIED:20251029T165116Z
UID:10000051-1763200800-1763250600@www.centroeducativo.myt.org.mx
SUMMARY:Pérdidas que no podemos soltar: despedir a los seres queridos
DESCRIPTION:Comprender el proceso de duelo: Explorar las diferentes etapas del duelo y las emociones asociadas a cada una.\nNormalizar el dolor: Reconocer que el dolor por la pérdida es una experiencia universal y necesaria.\nPromover la aceptación y el crecimiento personal: Acompañar a los participantes en el proceso de aceptación de la pérdida y en la búsqueda de un nuevo significado en la vida.\n\nLink de inscripción: https://bit.ly/4ht6rI7 \nConoce el programa aquí
URL:https://www.centroeducativo.myt.org.mx/evento/perdidas-que-no-podemos-soltar-despedir-a-los-seres-queridos-3/
LOCATION:Museo Memoria y Tolerancia\, Av. Juárez\, Cuidad de México\, 06010\, Mexico
CATEGORIES:Liderazgo y bienestar
ATTACH;FMTTYPE=image/jpeg:https://www.centroeducativo.myt.org.mx/wp-content/uploads/2025/10/16.-AMERSE-scaled.jpg
END:VEVENT
BEGIN:VEVENT
DTSTART;TZID=UTC:20251108T100000
DTEND;TZID=UTC:20251108T115000
DTSTAMP:20260419T142856
CREATED:20251029T163908Z
LAST-MODIFIED:20251029T165050Z
UID:10000050-1762596000-1762602600@www.centroeducativo.myt.org.mx
SUMMARY:Pérdidas que no podemos soltar: despedir a los seres queridos
DESCRIPTION:Comprender el proceso de duelo: Explorar las diferentes etapas del duelo y las emociones asociadas a cada una.\nNormalizar el dolor: Reconocer que el dolor por la pérdida es una experiencia universal y necesaria.\nPromover la aceptación y el crecimiento personal: Acompañar a los participantes en el proceso de aceptación de la pérdida y en la búsqueda de un nuevo significado en la vida.\n\nLink de inscripción: https://bit.ly/4ht6rI7 \nConoce el programa aquí
URL:https://www.centroeducativo.myt.org.mx/evento/perdidas-que-no-podemos-soltar-despedir-a-los-seres-queridos-2/
LOCATION:Museo Memoria y Tolerancia\, Av. Juárez\, Cuidad de México\, 06010\, Mexico
ATTACH;FMTTYPE=image/jpeg:https://www.centroeducativo.myt.org.mx/wp-content/uploads/2025/10/16.-AMERSE-scaled.jpg
END:VEVENT
BEGIN:VEVENT
DTSTART;TZID=UTC:20251101T100000
DTEND;TZID=UTC:20251101T115000
DTSTAMP:20260419T142856
CREATED:20251029T163743Z
LAST-MODIFIED:20251029T165220Z
UID:10000049-1761991200-1761997800@www.centroeducativo.myt.org.mx
SUMMARY:Pérdidas que no podemos soltar: despedir a los seres queridos
DESCRIPTION:Comprender el proceso de duelo: Explorar las diferentes etapas del duelo y las emociones asociadas a cada una.\nNormalizar el dolor: Reconocer que el dolor por la pérdida es una experiencia universal y necesaria.\nPromover la aceptación y el crecimiento personal: Acompañar a los participantes en el proceso de aceptación de la pérdida y en la búsqueda de un nuevo significado en la vida.\n\nLink de inscripción: https://bit.ly/4ht6rI7 \nConoce el programa aquí
URL:https://www.centroeducativo.myt.org.mx/evento/perdidas-que-no-podemos-soltar-despedir-a-los-seres-queridos/
LOCATION:Museo Memoria y Tolerancia\, Av. Juárez\, Cuidad de México\, 06010\, Mexico
CATEGORIES:Liderazgo y bienestar
ATTACH;FMTTYPE=image/jpeg:https://www.centroeducativo.myt.org.mx/wp-content/uploads/2025/10/16.-AMERSE-scaled.jpg
END:VEVENT
END:VCALENDAR