BEGIN:VCALENDAR
VERSION:2.0
PRODID:-//Centro Educativo - ECPv6.15.18//NONSGML v1.0//EN
CALSCALE:GREGORIAN
METHOD:PUBLISH
X-WR-CALNAME:Centro Educativo
X-ORIGINAL-URL:https://www.centroeducativo.myt.org.mx
X-WR-CALDESC:Eventos para Centro Educativo
REFRESH-INTERVAL;VALUE=DURATION:PT1H
X-Robots-Tag:noindex
X-PUBLISHED-TTL:PT1H
BEGIN:VTIMEZONE
TZID:UTC
BEGIN:STANDARD
TZOFFSETFROM:+0000
TZOFFSETTO:+0000
TZNAME:UTC
DTSTART:20240101T000000
END:STANDARD
END:VTIMEZONE
BEGIN:VEVENT
DTSTART;TZID=UTC:20260414T140000
DTEND;TZID=UTC:20260414T155000
DTSTAMP:20260421T095525
CREATED:20260324T185753Z
LAST-MODIFIED:20260324T185753Z
UID:10000284-1776175200-1776181800@www.centroeducativo.myt.org.mx
SUMMARY:Construyamos una agenda propia sobre la prostitución en México
DESCRIPTION:Con base en la participación de personas que ejercen la prostitución en México\, de manera voluntaria y de quienes fueron tratadas\, así como de expert@s debatiremos en torno a cuatro ejes abiertos: 1. La industrialización\, globalización y diversificación de la prostitución como trabajo sexual. 2. La libertad\, el consentimiento y las condiciones en las que ingresan las mujeres\, niñas y personas trans prostituidas y tratadas en la industria del sexo. 3. La prostitución como ejercicio de la libertad sexual de las personas prostituidas y 4. Miradas alternativas al problema de la dignidad de las personas prostituidas. \n 
URL:https://www.centroeducativo.myt.org.mx/evento/construyamos-una-agenda-propia-sobre-la-prostitucion-en-mexico/2026-04-14/
LOCATION:Curso vía zoom\, Mexico
CATEGORIES:Derechos humanos,Prevención de la violencia y cultura de paz
ATTACH;FMTTYPE=image/jpeg:https://www.centroeducativo.myt.org.mx/wp-content/uploads/2026/03/02.-PROSTITUCION-scaled.jpg
END:VEVENT
BEGIN:VEVENT
DTSTART;TZID=UTC:20260407T140000
DTEND;TZID=UTC:20260407T155000
DTSTAMP:20260421T095525
CREATED:20260324T185753Z
LAST-MODIFIED:20260324T185753Z
UID:10000283-1775570400-1775577000@www.centroeducativo.myt.org.mx
SUMMARY:Construyamos una agenda propia sobre la prostitución en México
DESCRIPTION:Con base en la participación de personas que ejercen la prostitución en México\, de manera voluntaria y de quienes fueron tratadas\, así como de expert@s debatiremos en torno a cuatro ejes abiertos: 1. La industrialización\, globalización y diversificación de la prostitución como trabajo sexual. 2. La libertad\, el consentimiento y las condiciones en las que ingresan las mujeres\, niñas y personas trans prostituidas y tratadas en la industria del sexo. 3. La prostitución como ejercicio de la libertad sexual de las personas prostituidas y 4. Miradas alternativas al problema de la dignidad de las personas prostituidas. \n 
URL:https://www.centroeducativo.myt.org.mx/evento/construyamos-una-agenda-propia-sobre-la-prostitucion-en-mexico/2026-04-07/
LOCATION:Curso vía zoom\, Mexico
CATEGORIES:Derechos humanos,Prevención de la violencia y cultura de paz
ATTACH;FMTTYPE=image/jpeg:https://www.centroeducativo.myt.org.mx/wp-content/uploads/2026/03/02.-PROSTITUCION-scaled.jpg
END:VEVENT
BEGIN:VEVENT
DTSTART;TZID=UTC:20260324T140000
DTEND;TZID=UTC:20260324T155000
DTSTAMP:20260421T095525
CREATED:20260225T171921Z
LAST-MODIFIED:20260225T213526Z
UID:10000228-1774360800-1774367400@www.centroeducativo.myt.org.mx
SUMMARY:Violencia vicaria ¿Un nuevo tipo de violencia de género?
DESCRIPTION:Aprenderemos que los esfuerzos durante más de treinta años\, por construir una agenda pública de gobierno en torno a prevenir la violencia familiar y el maltrato y abuso infantil en las familias mexicanas\, muestran resultados muy limitados. Por un lado\, las carpetas de investigación de violencia familiar han experimentado un crecimiento constante ascendente\, mientras que las oportunidades de disolución de los vínculos familiares\, para ciertos sectores sociales\, hacen emerger nuevas formas de violencia. La violencia vicaria es un nuevo tipo de violencia de género contra las mujeres.
URL:https://www.centroeducativo.myt.org.mx/evento/violencia-vicaria-una-nuevo-tipo-de-violencia-de-genero/2026-03-24/
LOCATION:Curso vía zoom\, Mexico
CATEGORIES:Inclusión y género
ATTACH;FMTTYPE=image/jpeg:https://www.centroeducativo.myt.org.mx/wp-content/uploads/2026/02/02.-VICARIA-scaled.jpg
END:VEVENT
BEGIN:VEVENT
DTSTART;TZID=UTC:20260317T140000
DTEND;TZID=UTC:20260317T155000
DTSTAMP:20260421T095525
CREATED:20260225T171921Z
LAST-MODIFIED:20260225T213526Z
UID:10000227-1773756000-1773762600@www.centroeducativo.myt.org.mx
SUMMARY:Violencia vicaria ¿Un nuevo tipo de violencia de género?
DESCRIPTION:Aprenderemos que los esfuerzos durante más de treinta años\, por construir una agenda pública de gobierno en torno a prevenir la violencia familiar y el maltrato y abuso infantil en las familias mexicanas\, muestran resultados muy limitados. Por un lado\, las carpetas de investigación de violencia familiar han experimentado un crecimiento constante ascendente\, mientras que las oportunidades de disolución de los vínculos familiares\, para ciertos sectores sociales\, hacen emerger nuevas formas de violencia. La violencia vicaria es un nuevo tipo de violencia de género contra las mujeres.
URL:https://www.centroeducativo.myt.org.mx/evento/violencia-vicaria-una-nuevo-tipo-de-violencia-de-genero/2026-03-17/
LOCATION:Curso vía zoom\, Mexico
CATEGORIES:Inclusión y género
ATTACH;FMTTYPE=image/jpeg:https://www.centroeducativo.myt.org.mx/wp-content/uploads/2026/02/02.-VICARIA-scaled.jpg
END:VEVENT
BEGIN:VEVENT
DTSTART;TZID=UTC:20260310T140000
DTEND;TZID=UTC:20260310T155000
DTSTAMP:20260421T095525
CREATED:20260225T171921Z
LAST-MODIFIED:20260225T213526Z
UID:10000226-1773151200-1773157800@www.centroeducativo.myt.org.mx
SUMMARY:Violencia vicaria ¿Un nuevo tipo de violencia de género?
DESCRIPTION:Aprenderemos que los esfuerzos durante más de treinta años\, por construir una agenda pública de gobierno en torno a prevenir la violencia familiar y el maltrato y abuso infantil en las familias mexicanas\, muestran resultados muy limitados. Por un lado\, las carpetas de investigación de violencia familiar han experimentado un crecimiento constante ascendente\, mientras que las oportunidades de disolución de los vínculos familiares\, para ciertos sectores sociales\, hacen emerger nuevas formas de violencia. La violencia vicaria es un nuevo tipo de violencia de género contra las mujeres.
URL:https://www.centroeducativo.myt.org.mx/evento/violencia-vicaria-una-nuevo-tipo-de-violencia-de-genero/2026-03-10/
LOCATION:Curso vía zoom\, Mexico
CATEGORIES:Inclusión y género
ATTACH;FMTTYPE=image/jpeg:https://www.centroeducativo.myt.org.mx/wp-content/uploads/2026/02/02.-VICARIA-scaled.jpg
END:VEVENT
BEGIN:VEVENT
DTSTART;TZID=UTC:20260303T140000
DTEND;TZID=UTC:20260303T155000
DTSTAMP:20260421T095525
CREATED:20260225T171921Z
LAST-MODIFIED:20260225T213526Z
UID:10000225-1772546400-1772553000@www.centroeducativo.myt.org.mx
SUMMARY:Violencia vicaria ¿Un nuevo tipo de violencia de género?
DESCRIPTION:Aprenderemos que los esfuerzos durante más de treinta años\, por construir una agenda pública de gobierno en torno a prevenir la violencia familiar y el maltrato y abuso infantil en las familias mexicanas\, muestran resultados muy limitados. Por un lado\, las carpetas de investigación de violencia familiar han experimentado un crecimiento constante ascendente\, mientras que las oportunidades de disolución de los vínculos familiares\, para ciertos sectores sociales\, hacen emerger nuevas formas de violencia. La violencia vicaria es un nuevo tipo de violencia de género contra las mujeres.
URL:https://www.centroeducativo.myt.org.mx/evento/violencia-vicaria-una-nuevo-tipo-de-violencia-de-genero/2026-03-03/
LOCATION:Curso vía zoom\, Mexico
CATEGORIES:Inclusión y género
ATTACH;FMTTYPE=image/jpeg:https://www.centroeducativo.myt.org.mx/wp-content/uploads/2026/02/02.-VICARIA-scaled.jpg
END:VEVENT
BEGIN:VEVENT
DTSTART;TZID=UTC:20260224T140000
DTEND;TZID=UTC:20260224T155000
DTSTAMP:20260421T095525
CREATED:20260124T175021Z
LAST-MODIFIED:20260124T175021Z
UID:10000161-1771941600-1771948200@www.centroeducativo.myt.org.mx
SUMMARY:Pongamos un alto a la violencia familiar. Democratizar las relaciones familiares
DESCRIPTION:Desde los primeros estudios sobre violencia familiar se hizo evidente que ésta lejos de ser una anomalía de las relaciones familiares\, es resultado de las desigualdades de autoridad y propiedad que\, asignan al varón\, superioridad sobre el resto de los integrantes. Revisaremos las investigaciones del equipo de Beatriz Schmukler y María Cristina Ravazzola del Instituto Mora\, que durante más de veinte años han buscado responder a la pregunta: ¿Es posible transformar las desigualdades familiares que inferiorizan a mujeres\, infancias\, juventudes\, personas mayores? Asimismo\, ¿Cómo construir vínculos democráticos de autoridad familiar que partan de la igualdad sustantiva de sus integrantes? Aprenderemos cómo la violencia familiar afecta mayormente a las niñas y a las mujeres jóvenes.
URL:https://www.centroeducativo.myt.org.mx/evento/pongamos-un-alto-a-la-violencia-familiar-democratizar-las-relaciones-familiares/2026-02-24/
LOCATION:Curso vía zoom\, Mexico
CATEGORIES:Prevención de la violencia y cultura de paz
ATTACH;FMTTYPE=image/jpeg:https://www.centroeducativo.myt.org.mx/wp-content/uploads/2026/01/02.-FAMILIAR-scaled.jpg
END:VEVENT
BEGIN:VEVENT
DTSTART;TZID=UTC:20260217T140000
DTEND;TZID=UTC:20260217T155000
DTSTAMP:20260421T095525
CREATED:20260124T175021Z
LAST-MODIFIED:20260124T175021Z
UID:10000160-1771336800-1771343400@www.centroeducativo.myt.org.mx
SUMMARY:Pongamos un alto a la violencia familiar. Democratizar las relaciones familiares
DESCRIPTION:Desde los primeros estudios sobre violencia familiar se hizo evidente que ésta lejos de ser una anomalía de las relaciones familiares\, es resultado de las desigualdades de autoridad y propiedad que\, asignan al varón\, superioridad sobre el resto de los integrantes. Revisaremos las investigaciones del equipo de Beatriz Schmukler y María Cristina Ravazzola del Instituto Mora\, que durante más de veinte años han buscado responder a la pregunta: ¿Es posible transformar las desigualdades familiares que inferiorizan a mujeres\, infancias\, juventudes\, personas mayores? Asimismo\, ¿Cómo construir vínculos democráticos de autoridad familiar que partan de la igualdad sustantiva de sus integrantes? Aprenderemos cómo la violencia familiar afecta mayormente a las niñas y a las mujeres jóvenes.
URL:https://www.centroeducativo.myt.org.mx/evento/pongamos-un-alto-a-la-violencia-familiar-democratizar-las-relaciones-familiares/2026-02-17/
LOCATION:Curso vía zoom\, Mexico
CATEGORIES:Prevención de la violencia y cultura de paz
ATTACH;FMTTYPE=image/jpeg:https://www.centroeducativo.myt.org.mx/wp-content/uploads/2026/01/02.-FAMILIAR-scaled.jpg
END:VEVENT
BEGIN:VEVENT
DTSTART;TZID=UTC:20260210T140000
DTEND;TZID=UTC:20260210T155000
DTSTAMP:20260421T095525
CREATED:20260124T175021Z
LAST-MODIFIED:20260124T175021Z
UID:10000159-1770732000-1770738600@www.centroeducativo.myt.org.mx
SUMMARY:Pongamos un alto a la violencia familiar. Democratizar las relaciones familiares
DESCRIPTION:Desde los primeros estudios sobre violencia familiar se hizo evidente que ésta lejos de ser una anomalía de las relaciones familiares\, es resultado de las desigualdades de autoridad y propiedad que\, asignan al varón\, superioridad sobre el resto de los integrantes. Revisaremos las investigaciones del equipo de Beatriz Schmukler y María Cristina Ravazzola del Instituto Mora\, que durante más de veinte años han buscado responder a la pregunta: ¿Es posible transformar las desigualdades familiares que inferiorizan a mujeres\, infancias\, juventudes\, personas mayores? Asimismo\, ¿Cómo construir vínculos democráticos de autoridad familiar que partan de la igualdad sustantiva de sus integrantes? Aprenderemos cómo la violencia familiar afecta mayormente a las niñas y a las mujeres jóvenes.
URL:https://www.centroeducativo.myt.org.mx/evento/pongamos-un-alto-a-la-violencia-familiar-democratizar-las-relaciones-familiares/2026-02-10/
LOCATION:Curso vía zoom\, Mexico
CATEGORIES:Prevención de la violencia y cultura de paz
ATTACH;FMTTYPE=image/jpeg:https://www.centroeducativo.myt.org.mx/wp-content/uploads/2026/01/02.-FAMILIAR-scaled.jpg
END:VEVENT
BEGIN:VEVENT
DTSTART;TZID=UTC:20260203T140000
DTEND;TZID=UTC:20260203T155000
DTSTAMP:20260421T095525
CREATED:20260124T175021Z
LAST-MODIFIED:20260124T175021Z
UID:10000158-1770127200-1770133800@www.centroeducativo.myt.org.mx
SUMMARY:Pongamos un alto a la violencia familiar. Democratizar las relaciones familiares
DESCRIPTION:Desde los primeros estudios sobre violencia familiar se hizo evidente que ésta lejos de ser una anomalía de las relaciones familiares\, es resultado de las desigualdades de autoridad y propiedad que\, asignan al varón\, superioridad sobre el resto de los integrantes. Revisaremos las investigaciones del equipo de Beatriz Schmukler y María Cristina Ravazzola del Instituto Mora\, que durante más de veinte años han buscado responder a la pregunta: ¿Es posible transformar las desigualdades familiares que inferiorizan a mujeres\, infancias\, juventudes\, personas mayores? Asimismo\, ¿Cómo construir vínculos democráticos de autoridad familiar que partan de la igualdad sustantiva de sus integrantes? Aprenderemos cómo la violencia familiar afecta mayormente a las niñas y a las mujeres jóvenes.
URL:https://www.centroeducativo.myt.org.mx/evento/pongamos-un-alto-a-la-violencia-familiar-democratizar-las-relaciones-familiares/2026-02-03/
LOCATION:Curso vía zoom\, Mexico
CATEGORIES:Prevención de la violencia y cultura de paz
ATTACH;FMTTYPE=image/jpeg:https://www.centroeducativo.myt.org.mx/wp-content/uploads/2026/01/02.-FAMILIAR-scaled.jpg
END:VEVENT
BEGIN:VEVENT
DTSTART;TZID=UTC:20260127T140000
DTEND;TZID=UTC:20260127T165000
DTSTAMP:20260421T095525
CREATED:20251212T190238Z
LAST-MODIFIED:20260119T202241Z
UID:10000105-1769522400-1769532600@www.centroeducativo.myt.org.mx
SUMMARY:¿Es posible prevenir el abuso sexual?. Reflexiones sobre los límites éticos y narrativos en la representación del dolor
DESCRIPTION:Interrogarse sobre la posibilidad de prevenir la violencia sexual es importante para conocer si los esfuerzos de las políticas públicas están adecuadamente orientados. Para responder a la pregunta revisaremos las propuestas de escritoras y activistas muy diversas\, como son\, Virginie Despentes\, Tarana Burke\, Camille Paglia y Angela Davis. Nos centraremos en analizar ¿Cómo se conceptualiza la violencia sexual? ¿Cuáles son las causas? y\, ¿En qué sería más eficaz depositar nuestros esfuerzos para contrarrestarla?
URL:https://www.centroeducativo.myt.org.mx/evento/es-posible-prevenir-el-abuso-sexual-reflexiones-sobre-los-limites-eticos-y-narrativos-en-la-representacion-del-dolor/2026-01-27/
LOCATION:Curso vía zoom\, Mexico
CATEGORIES:Prevención de la violencia y cultura de paz
ATTACH;FMTTYPE=image/jpeg:https://www.centroeducativo.myt.org.mx/wp-content/uploads/2025/11/02.-DOLOR-scaled.jpg
END:VEVENT
BEGIN:VEVENT
DTSTART;TZID=UTC:20260120T140000
DTEND;TZID=UTC:20260120T165000
DTSTAMP:20260421T095525
CREATED:20251212T190238Z
LAST-MODIFIED:20260119T202241Z
UID:10000104-1768917600-1768927800@www.centroeducativo.myt.org.mx
SUMMARY:¿Es posible prevenir el abuso sexual?. Reflexiones sobre los límites éticos y narrativos en la representación del dolor
DESCRIPTION:Interrogarse sobre la posibilidad de prevenir la violencia sexual es importante para conocer si los esfuerzos de las políticas públicas están adecuadamente orientados. Para responder a la pregunta revisaremos las propuestas de escritoras y activistas muy diversas\, como son\, Virginie Despentes\, Tarana Burke\, Camille Paglia y Angela Davis. Nos centraremos en analizar ¿Cómo se conceptualiza la violencia sexual? ¿Cuáles son las causas? y\, ¿En qué sería más eficaz depositar nuestros esfuerzos para contrarrestarla?
URL:https://www.centroeducativo.myt.org.mx/evento/es-posible-prevenir-el-abuso-sexual-reflexiones-sobre-los-limites-eticos-y-narrativos-en-la-representacion-del-dolor/2026-01-20/
LOCATION:Curso vía zoom\, Mexico
CATEGORIES:Prevención de la violencia y cultura de paz
ATTACH;FMTTYPE=image/jpeg:https://www.centroeducativo.myt.org.mx/wp-content/uploads/2025/11/02.-DOLOR-scaled.jpg
END:VEVENT
BEGIN:VEVENT
DTSTART;TZID=UTC:20260113T140000
DTEND;TZID=UTC:20260113T165000
DTSTAMP:20260421T095525
CREATED:20251212T190238Z
LAST-MODIFIED:20260119T202241Z
UID:10000103-1768312800-1768323000@www.centroeducativo.myt.org.mx
SUMMARY:¿Es posible prevenir el abuso sexual?. Reflexiones sobre los límites éticos y narrativos en la representación del dolor
DESCRIPTION:Interrogarse sobre la posibilidad de prevenir la violencia sexual es importante para conocer si los esfuerzos de las políticas públicas están adecuadamente orientados. Para responder a la pregunta revisaremos las propuestas de escritoras y activistas muy diversas\, como son\, Virginie Despentes\, Tarana Burke\, Camille Paglia y Angela Davis. Nos centraremos en analizar ¿Cómo se conceptualiza la violencia sexual? ¿Cuáles son las causas? y\, ¿En qué sería más eficaz depositar nuestros esfuerzos para contrarrestarla?
URL:https://www.centroeducativo.myt.org.mx/evento/es-posible-prevenir-el-abuso-sexual-reflexiones-sobre-los-limites-eticos-y-narrativos-en-la-representacion-del-dolor/2026-01-13/
LOCATION:Curso vía zoom\, Mexico
CATEGORIES:Prevención de la violencia y cultura de paz
ATTACH;FMTTYPE=image/jpeg:https://www.centroeducativo.myt.org.mx/wp-content/uploads/2025/11/02.-DOLOR-scaled.jpg
END:VEVENT
BEGIN:VEVENT
DTSTART;TZID=UTC:20260106T140000
DTEND;TZID=UTC:20260106T165000
DTSTAMP:20260421T095525
CREATED:20251212T190238Z
LAST-MODIFIED:20260119T202241Z
UID:10000102-1767708000-1767718200@www.centroeducativo.myt.org.mx
SUMMARY:¿Es posible prevenir el abuso sexual?. Reflexiones sobre los límites éticos y narrativos en la representación del dolor
DESCRIPTION:Interrogarse sobre la posibilidad de prevenir la violencia sexual es importante para conocer si los esfuerzos de las políticas públicas están adecuadamente orientados. Para responder a la pregunta revisaremos las propuestas de escritoras y activistas muy diversas\, como son\, Virginie Despentes\, Tarana Burke\, Camille Paglia y Angela Davis. Nos centraremos en analizar ¿Cómo se conceptualiza la violencia sexual? ¿Cuáles son las causas? y\, ¿En qué sería más eficaz depositar nuestros esfuerzos para contrarrestarla?
URL:https://www.centroeducativo.myt.org.mx/evento/es-posible-prevenir-el-abuso-sexual-reflexiones-sobre-los-limites-eticos-y-narrativos-en-la-representacion-del-dolor/2026-01-06/
LOCATION:Curso vía zoom\, Mexico
CATEGORIES:Prevención de la violencia y cultura de paz
ATTACH;FMTTYPE=image/jpeg:https://www.centroeducativo.myt.org.mx/wp-content/uploads/2025/11/02.-DOLOR-scaled.jpg
END:VEVENT
BEGIN:VEVENT
DTSTART;TZID=UTC:20251209T140000
DTEND;TZID=UTC:20251209T155000
DTSTAMP:20260421T095525
CREATED:20251119T205102Z
LAST-MODIFIED:20251123T001257Z
UID:10000069-1765288800-1765295400@www.centroeducativo.myt.org.mx
SUMMARY:Mujer\, indígena\, migrante. El nuevo rostro del trabajo digno en México
DESCRIPTION:Con base en el libro “Imperceptibles. Vida y lucha de Marcelina Bautista” aprenderemos sobre las discriminaciones y violencias que viven las mujeres indígenas en sus comunidades y\, cómo éstas se transforman en nuevas violencias\, cuando emigran a las ciudades. Estudiaremos el activismo de Marcelina orientado a cambiar la Ley Federal del Trabajo con el objetivo de romper con la discriminación que ésta establecía y\, así reconocer las actividades domésticas como trabajo y\, por tanto\, con derecho a la seguridad social\, en tanto componente indispensable para luchar contra la pobreza y la exclusión social de millones de mujeres en México. \n 
URL:https://www.centroeducativo.myt.org.mx/evento/mujer-indigena-migrante-el-nuevo-rostro-del-trabajo-digno-en-mexico/2025-12-09/
LOCATION:Curso vía zoom\, Mexico
CATEGORIES:Derechos humanos
ATTACH;FMTTYPE=image/jpeg:https://www.centroeducativo.myt.org.mx/wp-content/uploads/2025/11/01.-INDIGENA-scaled.jpg
END:VEVENT
BEGIN:VEVENT
DTSTART;TZID=UTC:20251202T140000
DTEND;TZID=UTC:20251202T155000
DTSTAMP:20260421T095525
CREATED:20251119T205102Z
LAST-MODIFIED:20251123T001257Z
UID:10000068-1764684000-1764690600@www.centroeducativo.myt.org.mx
SUMMARY:Mujer\, indígena\, migrante. El nuevo rostro del trabajo digno en México
DESCRIPTION:Con base en el libro “Imperceptibles. Vida y lucha de Marcelina Bautista” aprenderemos sobre las discriminaciones y violencias que viven las mujeres indígenas en sus comunidades y\, cómo éstas se transforman en nuevas violencias\, cuando emigran a las ciudades. Estudiaremos el activismo de Marcelina orientado a cambiar la Ley Federal del Trabajo con el objetivo de romper con la discriminación que ésta establecía y\, así reconocer las actividades domésticas como trabajo y\, por tanto\, con derecho a la seguridad social\, en tanto componente indispensable para luchar contra la pobreza y la exclusión social de millones de mujeres en México. \n 
URL:https://www.centroeducativo.myt.org.mx/evento/mujer-indigena-migrante-el-nuevo-rostro-del-trabajo-digno-en-mexico/2025-12-02/
LOCATION:Curso vía zoom\, Mexico
CATEGORIES:Derechos humanos
ATTACH;FMTTYPE=image/jpeg:https://www.centroeducativo.myt.org.mx/wp-content/uploads/2025/11/01.-INDIGENA-scaled.jpg
END:VEVENT
BEGIN:VEVENT
DTSTART;TZID=UTC:20251125T140000
DTEND;TZID=UTC:20251125T155000
DTSTAMP:20260421T095525
CREATED:20251028T003117Z
LAST-MODIFIED:20251028T003117Z
UID:10000011-1764079200-1764085800@www.centroeducativo.myt.org.mx
SUMMARY:Debatir la prostitución y repensar la trata de personas en México
DESCRIPTION:Aprenderemos que la prostitución es una problemática distinta a la trata de personas y\,  sin embargo\, el tráfico de niñas\, en las últimas décadas\, ha entrelazado estas dos problemáticas debido a que el destino de éstas es la explotación sexual. Así\, lo indica el Informe Mundial sobre Trata de Personas 2024 de la Oficina de las Naciones Unidas\, al señalar que las mujeres y las niñas representan la mayoría de las víctimas de trata en el mundo y\, que la mayoría de las niñas víctimas de trata son con fines de explotación sexual. \nBuscaremos construir un debate sobre la prostitución y la trata de personas que contribuya a aclarar algunas confusiones creadas por el mercado del sexo a fin de contribuir a detener la violencia indiscriminada contra todas las personas vinculadas con el trabajo \nLink de inscripción: https://bit.ly/4o7wveq \nConoce el programa aquí
URL:https://www.centroeducativo.myt.org.mx/evento/debatir-la-prostitucion-y-repensar-la-trata-de-personas-en-mexico-4/
LOCATION:Curso vía zoom\, Mexico
CATEGORIES:Inclusión y género
ATTACH;FMTTYPE=image/jpeg:https://www.centroeducativo.myt.org.mx/wp-content/uploads/2025/10/02.TRATA_.jpg
END:VEVENT
BEGIN:VEVENT
DTSTART;TZID=UTC:20251118T140000
DTEND;TZID=UTC:20251118T155000
DTSTAMP:20260421T095525
CREATED:20251028T002942Z
LAST-MODIFIED:20251028T003007Z
UID:10000010-1763474400-1763481000@www.centroeducativo.myt.org.mx
SUMMARY:Debatir la prostitución y repensar la trata de personas en México
DESCRIPTION:Aprenderemos que la prostitución es una problemática distinta a la trata de personas y\,  sin embargo\, el tráfico de niñas\, en las últimas décadas\, ha entrelazado estas dos problemáticas debido a que el destino de éstas es la explotación sexual. Así\, lo indica el Informe Mundial sobre Trata de Personas 2024 de la Oficina de las Naciones Unidas\, al señalar que las mujeres y las niñas representan la mayoría de las víctimas de trata en el mundo y\, que la mayoría de las niñas víctimas de trata son con fines de explotación sexual. \nBuscaremos construir un debate sobre la prostitución y la trata de personas que contribuya a aclarar algunas confusiones creadas por el mercado del sexo a fin de contribuir a detener la violencia indiscriminada contra todas las personas vinculadas con el trabajo \nLink de inscripción: https://bit.ly/4o7wveq \nConoce el programa aquí \n 
URL:https://www.centroeducativo.myt.org.mx/evento/debatir-la-prostitucion-y-repensar-la-trata-de-personas-en-mexico-3/
LOCATION:Curso vía zoom\, Mexico
CATEGORIES:Inclusión y género
ATTACH;FMTTYPE=image/jpeg:https://www.centroeducativo.myt.org.mx/wp-content/uploads/2025/10/02.TRATA_.jpg
END:VEVENT
BEGIN:VEVENT
DTSTART;TZID=UTC:20251111T140000
DTEND;TZID=UTC:20251111T155000
DTSTAMP:20260421T095525
CREATED:20251028T002632Z
LAST-MODIFIED:20251028T002825Z
UID:10000009-1762869600-1762876200@www.centroeducativo.myt.org.mx
SUMMARY:Debatir la prostitución y repensar la trata de personas en México
DESCRIPTION:Aprenderemos que la prostitución es una problemática distinta a la trata de personas y\,  sin embargo\, el tráfico de niñas\, en las últimas décadas\, ha entrelazado estas dos problemáticas debido a que el destino de éstas es la explotación sexual. Así\, lo indica el Informe Mundial sobre Trata de Personas 2024 de la Oficina de las Naciones Unidas\, al señalar que las mujeres y las niñas representan la mayoría de las víctimas de trata en el mundo y\, que la mayoría de las niñas víctimas de trata son con fines de explotación sexual. \nBuscaremos construir un debate sobre la prostitución y la trata de personas que contribuya a aclarar algunas confusiones creadas por el mercado del sexo a fin de contribuir a detener la violencia indiscriminada contra todas las personas vinculadas con el trabajo \nLink de inscripción: https://bit.ly/4o7wveq \nConoce el programa aquí
URL:https://www.centroeducativo.myt.org.mx/evento/debatir-la-prostitucion-y-repensar-la-trata-de-personas-en-mexico-2/
LOCATION:Curso vía zoom\, Mexico
CATEGORIES:Inclusión y género
ATTACH;FMTTYPE=image/jpeg:https://www.centroeducativo.myt.org.mx/wp-content/uploads/2025/10/02.TRATA_.jpg
END:VEVENT
END:VCALENDAR